BEGIN:VCALENDAR
VERSION:2.0
PRODID:-//Compassion Life Ministries - ECPv6.15.20//NONSGML v1.0//EN
CALSCALE:GREGORIAN
METHOD:PUBLISH
X-ORIGINAL-URL:https://www.compassionlife.org
X-WR-CALDESC:Events for Compassion Life Ministries
REFRESH-INTERVAL;VALUE=DURATION:PT1H
X-Robots-Tag:noindex
X-PUBLISHED-TTL:PT1H
BEGIN:VTIMEZONE
TZID:UTC
BEGIN:STANDARD
TZOFFSETFROM:+0000
TZOFFSETTO:+0000
TZNAME:UTC
DTSTART:20190101T000000
END:STANDARD
END:VTIMEZONE
BEGIN:VEVENT
DTSTART;VALUE=DATE:20240118
DTEND;VALUE=DATE:20240122
DTSTAMP:20260423T193400
CREATED:20231231T074635Z
LAST-MODIFIED:20231231T074635Z
UID:26390-1705536000-1705881599@www.compassionlife.org
SUMMARY:Annual Conference\, Graduation\, & Ordination
DESCRIPTION:
URL:https://www.compassionlife.org/event/annual-conference-graduation-ordination/
CATEGORIES:General Events,Home Event
ATTACH;FMTTYPE=image/jpeg:https://www.compassionlife.org/wp-content/uploads/2023/12/Conference.jpg
END:VEVENT
BEGIN:VEVENT
DTSTART;VALUE=DATE:20230120
DTEND;VALUE=DATE:20230122
DTSTAMP:20260423T193400
CREATED:20230108T011139Z
LAST-MODIFIED:20230108T011150Z
UID:26375-1674172800-1674345599@www.compassionlife.org
SUMMARY:Conference and Graduation
DESCRIPTION:
URL:https://www.compassionlife.org/event/conference-and-graduation/
CATEGORIES:General Events,Home Event
ATTACH;FMTTYPE=image/jpeg:https://www.compassionlife.org/wp-content/uploads/2023/01/Conference-Graduation-scaled.jpg
END:VEVENT
BEGIN:VEVENT
DTSTART;TZID=UTC:20211022T190000
DTEND;TZID=UTC:20211022T210000
DTSTAMP:20260423T193400
CREATED:20211016T054108Z
LAST-MODIFIED:20221216T230953Z
UID:26238-1634929200-1634936400@www.compassionlife.org
SUMMARY:PROPHETIC ENCOUNTER SERVICE with Prophet Kumar
DESCRIPTION:
URL:https://www.compassionlife.org/event/prophetic-encounter-service-with-prophet-kumar/
LOCATION:LANGLEY\, 4A - 20701 LAGLEY BYPASS\, LANGLEY\, BC\, V3A 5EB\, Canada
CATEGORIES:General Events,Home Event
END:VEVENT
BEGIN:VEVENT
DTSTART;TZID=UTC:20210714T190000
DTEND;TZID=UTC:20210714T203000
DTSTAMP:20260423T193400
CREATED:20210712T165447Z
LAST-MODIFIED:20220312T132810Z
UID:26220-1626289200-1626294600@www.compassionlife.org
SUMMARY:PROPHETIC SERVICE
DESCRIPTION:
URL:https://www.compassionlife.org/event/prophetic-service/
LOCATION:ON ZOOM: ID 851 6321 6018 Passcode: 2021\, BC\, Canada
CATEGORIES:General Events,Home Event
END:VEVENT
BEGIN:VEVENT
DTSTART;TZID=UTC:20210703T190000
DTEND;TZID=UTC:20210703T213000
DTSTAMP:20260423T193400
CREATED:20210624T205607Z
LAST-MODIFIED:20220312T132540Z
UID:26215-1625338800-1625347800@www.compassionlife.org
SUMMARY:LEADERSHIP SEMINAR
DESCRIPTION:NEVER MISS ATTENDING THIS IMPORTANT LEADERSHIP SEMINAR WITH DYNAMIC LEADERS OF TODAY\n	\n		\n		Button Text
URL:https://www.compassionlife.org/event/leadership-seminar/
LOCATION:ON ZOOM: ID 851 6321 6018 Passcode: 2021\, BC\, Canada
CATEGORIES:General Events,Home Event
ATTACH;FMTTYPE=image/jpeg:https://www.compassionlife.org/wp-content/uploads/2021/06/PASTORS-TRAINING.jpg
END:VEVENT
BEGIN:VEVENT
DTSTART;TZID=UTC:20210523T100000
DTEND;TZID=UTC:20210523T233000
DTSTAMP:20260423T193400
CREATED:20210522T183108Z
LAST-MODIFIED:20220314T231658Z
UID:26207-1621764000-1621812600@www.compassionlife.org
SUMMARY:Sunday Pentecost Expose'
DESCRIPTION:
URL:https://www.compassionlife.org/event/sunday-pentecost-expose/
CATEGORIES:General Events,Home Event
END:VEVENT
BEGIN:VEVENT
DTSTART;TZID=UTC:20210410T190000
DTEND;TZID=UTC:20210410T210000
DTSTAMP:20260423T193400
CREATED:20210327T194232Z
LAST-MODIFIED:20210327T195455Z
UID:26190-1618081200-1618088400@www.compassionlife.org
SUMMARY:Power-packed Conference
DESCRIPTION:
URL:https://www.compassionlife.org/event/power-packed-conference/
LOCATION:ZOOM | Meeting ID: 81474476125 | Psscode: 2021\, B.C.\, Canada
CATEGORIES:General Events,Home Event
ORGANIZER;CN="Rev. Dr. Peter Towongo":MAILTO:compassionlife@reborn.com
END:VEVENT
BEGIN:VEVENT
DTSTART;TZID=UTC:20210227T090000
DTEND;TZID=UTC:20210227T230000
DTSTAMP:20260423T193400
CREATED:20210207T203520Z
LAST-MODIFIED:20220315T010633Z
UID:26183-1614416400-1614466800@www.compassionlife.org
SUMMARY:Call for Healing Conference
DESCRIPTION:
URL:https://www.compassionlife.org/event/call-for-healing-conference/
LOCATION:Miracle Network TV – Egypt\, ONLINE: Meeting ID: 889 4905 2046 Passcode: Healing
CATEGORIES:General Events,Home Event
END:VEVENT
BEGIN:VEVENT
DTSTART;TZID=UTC:20210207T100000
DTEND;TZID=UTC:20210207T233000
DTSTAMP:20260423T193400
CREATED:20210107T015312Z
LAST-MODIFIED:20220315T011207Z
UID:26170-1612692000-1612740600@www.compassionlife.org
SUMMARY:SPECIAL SUNDAY SERVICE with Dr. Kelsey Haskett
DESCRIPTION:
URL:https://www.compassionlife.org/event/special-sunday-service/
LOCATION:GOODNEWS TV STUDIO\, Canada
CATEGORIES:General Events,Home Event
ATTACH;FMTTYPE=image/jpeg:https://www.compassionlife.org/wp-content/uploads/2021/02/KELSEY-scaled.jpg
END:VEVENT
BEGIN:VEVENT
DTSTART;TZID=UTC:20201231T210000
DTEND;TZID=UTC:20201231T210000
DTSTAMP:20260423T193400
CREATED:20201224T050207Z
LAST-MODIFIED:20201226T192015Z
UID:26159-1609448400-1609448400@www.compassionlife.org
SUMMARY:CROSSOVER NIGHT
DESCRIPTION:NEVER MISS THIS OUT. CONVERT THE TIME TO YOUR TIME ZONE AND JOIN US. GOD IS GONNA DO SOMETHING GREAT IN YOUR LIFE AS YOU CROSSOVER TO 2021.
URL:https://www.compassionlife.org/event/crossover-night/
LOCATION:ZOOM:Meeting ID: 861 3318 7376 Passcode: Healing
CATEGORIES:General Events,Home Event
ATTACH;FMTTYPE=image/jpeg:https://www.compassionlife.org/wp-content/uploads/2020/12/CROSSOVER-copy.jpg
END:VEVENT
BEGIN:VEVENT
DTSTART;TZID=UTC:20201128T130000
DTEND;TZID=UTC:20201128T140000
DTSTAMP:20260423T193400
CREATED:20201126T054231Z
LAST-MODIFIED:20221216T234802Z
UID:26126-1606568400-1606572000@www.compassionlife.org
SUMMARY:ARISE KINGDOM INTERCESSORS
DESCRIPTION:
URL:https://www.compassionlife.org/event/arise-kingdom-intercessors/
LOCATION:ON ZOOM: Meeting ID 899 9349 4452 >> Passcode: Pray
CATEGORIES:General Events,Home Event
END:VEVENT
BEGIN:VEVENT
DTSTART;TZID=UTC:20201121T180000
DTEND;TZID=UTC:20201121T200000
DTSTAMP:20260423T193400
CREATED:20201015T045539Z
LAST-MODIFIED:20201119T190709Z
UID:25850-1605981600-1605988800@www.compassionlife.org
SUMMARY:Miracle & Healing Service
DESCRIPTION:
URL:https://www.compassionlife.org/event/holy-ghost-rally/
LOCATION:Compassion Life Ministries\, Canada
CATEGORIES:General Events,Home Event
ATTACH;FMTTYPE=image/jpeg:https://www.compassionlife.org/wp-content/uploads/2020/10/healing-service.jpg
END:VEVENT
BEGIN:VEVENT
DTSTART;VALUE=DATE:20201114
DTEND;VALUE=DATE:20201115
DTSTAMP:20260423T193400
CREATED:20201027T015505Z
LAST-MODIFIED:20201105T194114Z
UID:26072-1605312000-1605398399@www.compassionlife.org
SUMMARY:Youth Round Table Summit
DESCRIPTION:
URL:https://www.compassionlife.org/event/youth-round-table-summit/
CATEGORIES:General Events,Home Event
END:VEVENT
BEGIN:VEVENT
DTSTART;TZID=UTC:20201108T100000
DTEND;TZID=UTC:20201108T230000
DTSTAMP:20260423T193400
CREATED:20201105T193214Z
LAST-MODIFIED:20201105T193352Z
UID:26106-1604829600-1604876400@www.compassionlife.org
SUMMARY:Global Communion Service
DESCRIPTION:
URL:https://www.compassionlife.org/event/global-communion-service/
LOCATION:LIVE STREAM\, GoodNews TV\, BC\, Canada
CATEGORIES:General Events,Home Event
END:VEVENT
BEGIN:VEVENT
DTSTART;TZID=UTC:20201017T170000
DTEND;TZID=UTC:20201017T183000
DTSTAMP:20260423T193400
CREATED:20201008T000608Z
LAST-MODIFIED:20201015T051504Z
UID:25591-1602954000-1602959400@www.compassionlife.org
SUMMARY:Prophetic Encounter with Prophet Dr. Peter Kumar
DESCRIPTION:
URL:https://www.compassionlife.org/event/prophetic-encounter-with-prophet-dr-peter-kumar/
LOCATION:ON ZOOM | Meeting ID: 851 4982 5230 | Passcode: 702625\, Canada
CATEGORIES:General Events,Home Event
ORGANIZER;CN="Rev. Peter Towongo":MAILTO:towongopeter@yahoo.com
END:VEVENT
END:VCALENDAR